BEGIN:VCALENDAR
VERSION:2.0
PRODID:-//Health and Safety Management College - ECPv6.15.17.1//NONSGML v1.0//EN
CALSCALE:GREGORIAN
METHOD:PUBLISH
X-WR-CALNAME:Health and Safety Management College
X-ORIGINAL-URL:https://hsmcollege.ca
X-WR-CALDESC:Events for Health and Safety Management College
REFRESH-INTERVAL;VALUE=DURATION:PT1H
X-Robots-Tag:noindex
X-PUBLISHED-TTL:PT1H
BEGIN:VTIMEZONE
TZID:America/Toronto
BEGIN:DAYLIGHT
TZOFFSETFROM:-0500
TZOFFSETTO:-0400
TZNAME:EDT
DTSTART:20250309T070000
END:DAYLIGHT
BEGIN:STANDARD
TZOFFSETFROM:-0400
TZOFFSETTO:-0500
TZNAME:EST
DTSTART:20251102T060000
END:STANDARD
BEGIN:DAYLIGHT
TZOFFSETFROM:-0500
TZOFFSETTO:-0400
TZNAME:EDT
DTSTART:20260308T070000
END:DAYLIGHT
BEGIN:STANDARD
TZOFFSETFROM:-0400
TZOFFSETTO:-0500
TZNAME:EST
DTSTART:20261101T060000
END:STANDARD
BEGIN:DAYLIGHT
TZOFFSETFROM:-0500
TZOFFSETTO:-0400
TZNAME:EDT
DTSTART:20270314T070000
END:DAYLIGHT
BEGIN:STANDARD
TZOFFSETFROM:-0400
TZOFFSETTO:-0500
TZNAME:EST
DTSTART:20271107T060000
END:STANDARD
END:VTIMEZONE
BEGIN:VEVENT
DTSTART;TZID=America/Toronto:20260502T090000
DTEND;TZID=America/Toronto:20260503T180000
DTSTAMP:20260422T061324
CREATED:20251110T160052Z
LAST-MODIFIED:20251111T165355Z
UID:3533-1777712400-1777831200@hsmcollege.ca
SUMMARY:CFATP Course 4 (WK 2): Life Safety Systems Electronics\, Winter 2026
DESCRIPTION:
URL:https://hsmcollege.ca/calendar/cfatp42/
LOCATION:Hybrid\, Instructor-Led
CATEGORIES:Canadian Fire Alarm Technology Program
END:VEVENT
BEGIN:VEVENT
DTSTART;TZID=America/Toronto:20260509T083000
DTEND;TZID=America/Toronto:20260509T163000
DTSTAMP:20260422T061324
CREATED:20260316T125456Z
LAST-MODIFIED:20260316T125817Z
UID:4051-1778315400-1778344200@hsmcollege.ca
SUMMARY:NFPA 10
DESCRIPTION:Your Annual Inspection Training\nWith industry leader & NFPA approved Instructor Iman Yavari\, you will be equipped with the skills and knowledge to perform inspections\, maintain audit-ready records and ensure compliance with the Ontario Fire Code. \nInspect with Authority and Confidence \n  \nLearn More Here
URL:https://hsmcollege.ca/calendar/nfpa-10/
LOCATION:Online\, Live Instructor-Led
CATEGORIES:NFPA
ATTACH;FMTTYPE=image/jpeg:https://hsmcollege.ca/wp-content/uploads/2025/08/ImanYavari.jpeg
END:VEVENT
BEGIN:VEVENT
DTSTART;TZID=America/Toronto:20260509T090000
DTEND;TZID=America/Toronto:20260510T180000
DTSTAMP:20260422T061324
CREATED:20251111T142548Z
LAST-MODIFIED:20251111T165337Z
UID:3539-1778317200-1778436000@hsmcollege.ca
SUMMARY:CFATP Course 4 (WK 3): Life Safety Systems Electronics\, Winter 2026
DESCRIPTION:
URL:https://hsmcollege.ca/calendar/cfatp43/
LOCATION:Hybrid\, Instructor-Led
CATEGORIES:Canadian Fire Alarm Technology Program
END:VEVENT
BEGIN:VEVENT
DTSTART;TZID=America/Toronto:20260523T090000
DTEND;TZID=America/Toronto:20260524T180000
DTSTAMP:20260422T061324
CREATED:20251111T142705Z
LAST-MODIFIED:20251111T165429Z
UID:3541-1779526800-1779645600@hsmcollege.ca
SUMMARY:CFATP Course 5 (WK 1): The Canadian Fire Alarm System - Application\, Winter 2026
DESCRIPTION:
URL:https://hsmcollege.ca/calendar/cfatp51/
LOCATION:Hybrid\, Instructor-Led
CATEGORIES:Canadian Fire Alarm Technology Program
END:VEVENT
BEGIN:VEVENT
DTSTART;TZID=America/Toronto:20260530T090000
DTEND;TZID=America/Toronto:20260531T180000
DTSTAMP:20260422T061324
CREATED:20251111T142810Z
LAST-MODIFIED:20251111T165317Z
UID:3543-1780131600-1780250400@hsmcollege.ca
SUMMARY:CFATP Course 5 (WK 2): The Canadian Fire Alarm System - Application\, Winter 2026
DESCRIPTION:2026\, Winter Term
URL:https://hsmcollege.ca/calendar/cfatp52/
LOCATION:Hybrid\, Instructor-Led
CATEGORIES:Canadian Fire Alarm Technology Program
END:VEVENT
END:VCALENDAR