BEGIN:VCALENDAR
VERSION:2.0
PRODID:-//Health and Safety Management College - ECPv6.15.17.1//NONSGML v1.0//EN
CALSCALE:GREGORIAN
METHOD:PUBLISH
X-WR-CALNAME:Health and Safety Management College
X-ORIGINAL-URL:https://hsmcollege.ca
X-WR-CALDESC:Events for Health and Safety Management College
REFRESH-INTERVAL;VALUE=DURATION:PT1H
X-Robots-Tag:noindex
X-PUBLISHED-TTL:PT1H
BEGIN:VTIMEZONE
TZID:America/Toronto
BEGIN:DAYLIGHT
TZOFFSETFROM:-0500
TZOFFSETTO:-0400
TZNAME:EDT
DTSTART:20250309T070000
END:DAYLIGHT
BEGIN:STANDARD
TZOFFSETFROM:-0400
TZOFFSETTO:-0500
TZNAME:EST
DTSTART:20251102T060000
END:STANDARD
BEGIN:DAYLIGHT
TZOFFSETFROM:-0500
TZOFFSETTO:-0400
TZNAME:EDT
DTSTART:20260308T070000
END:DAYLIGHT
BEGIN:STANDARD
TZOFFSETFROM:-0400
TZOFFSETTO:-0500
TZNAME:EST
DTSTART:20261101T060000
END:STANDARD
BEGIN:DAYLIGHT
TZOFFSETFROM:-0500
TZOFFSETTO:-0400
TZNAME:EDT
DTSTART:20270314T070000
END:DAYLIGHT
BEGIN:STANDARD
TZOFFSETFROM:-0400
TZOFFSETTO:-0500
TZNAME:EST
DTSTART:20271107T060000
END:STANDARD
END:VTIMEZONE
BEGIN:VEVENT
DTSTART;TZID=America/Toronto:20260228T090000
DTEND;TZID=America/Toronto:20260301T180000
DTSTAMP:20260424T044043
CREATED:20251108T005143Z
LAST-MODIFIED:20251111T165602Z
UID:3510-1772269200-1772388000@hsmcollege.ca
SUMMARY:CFATP Course 1 (WK 2): The Canadian Fire Alarm System - An Overview\, Winter 2026
DESCRIPTION:
URL:https://hsmcollege.ca/calendar/cfatp12/
LOCATION:Hybrid\, Instructor-Led
CATEGORIES:Canadian Fire Alarm Technology Program
END:VEVENT
BEGIN:VEVENT
DTSTART;TZID=America/Toronto:20260307T090000
DTEND;TZID=America/Toronto:20260308T180000
DTSTAMP:20260424T044043
CREATED:20251108T005556Z
LAST-MODIFIED:20251111T165545Z
UID:3512-1772874000-1772992800@hsmcollege.ca
SUMMARY:CFATP Course 2 (WK 1): Verbal & Written Communication\, Winter 2026
DESCRIPTION:
URL:https://hsmcollege.ca/calendar/cfatp21/
LOCATION:Hybrid\, Instructor-Led
CATEGORIES:Canadian Fire Alarm Technology Program
END:VEVENT
BEGIN:VEVENT
DTSTART;TZID=America/Toronto:20260314T090000
DTEND;TZID=America/Toronto:20260315T180000
DTSTAMP:20260424T044043
CREATED:20251108T005849Z
LAST-MODIFIED:20251111T165521Z
UID:3516-1773478800-1773597600@hsmcollege.ca
SUMMARY:CFATP Course 2 (WK 2): Verbal & Written Communication\, Winter 2026
DESCRIPTION:
URL:https://hsmcollege.ca/calendar/cfatp22/
LOCATION:Hybrid\, Instructor-Led
CATEGORIES:Canadian Fire Alarm Technology Program
END:VEVENT
BEGIN:VEVENT
DTSTART;TZID=America/Toronto:20260328T090000
DTEND;TZID=America/Toronto:20260329T180000
DTSTAMP:20260424T044043
CREATED:20251110T153725Z
LAST-MODIFIED:20251111T165501Z
UID:3522-1774688400-1774807200@hsmcollege.ca
SUMMARY:CFATP Course 3 (WK 1): Basic Electricity\, Winter 2026
DESCRIPTION:
URL:https://hsmcollege.ca/calendar/cfatp31/
LOCATION:Hybrid\, Instructor-Led
CATEGORIES:Canadian Fire Alarm Technology Program
END:VEVENT
END:VCALENDAR